BEGIN:VCALENDAR
VERSION:2.0
PRODID:-//MŠ Čtyřlístek Říčany - ECPv5.16.4//NONSGML v1.0//EN
CALSCALE:GREGORIAN
METHOD:PUBLISH
X-WR-CALNAME:MŠ Čtyřlístek Říčany
X-ORIGINAL-URL:https://www.ctyrlistek-ricany.cz
X-WR-CALDESC:Akce na MŠ Čtyřlístek Říčany
BEGIN:VTIMEZONE
TZID:Europe/Prague
BEGIN:DAYLIGHT
TZOFFSETFROM:+0100
TZOFFSETTO:+0200
TZNAME:CEST
DTSTART:20260329T010000
END:DAYLIGHT
BEGIN:STANDARD
TZOFFSETFROM:+0200
TZOFFSETTO:+0100
TZNAME:CET
DTSTART:20261025T010000
END:STANDARD
END:VTIMEZONE
BEGIN:VEVENT
DTSTART;TZID=Europe/Prague:20260507T100000
DTEND;TZID=Europe/Prague:20260507T110000
DTSTAMP:20260425T174018
CREATED:20260424T114600Z
LAST-MODIFIED:20260424T114600Z
UID:1628-1778148000-1778151600@www.ctyrlistek-ricany.cz
SUMMARY:ZUŠ-Zajíčci
DESCRIPTION:
URL:https://www.ctyrlistek-ricany.cz/kalendar/zus-zajicci-3/
CATEGORIES:kalendář a hlavní stránka
END:VEVENT
END:VCALENDAR